BEGIN:VCALENDAR
VERSION:2.0
PRODID:-//mhaorangeny.com//NONSGML kigkonsult.se iCalcreator 2.30.10//
CALSCALE:GREGORIAN
METHOD:PUBLISH
UID:ee15823d-651e-4c2a-aea7-20914c45a78a
X-WR-CALDESC:
X-WR-RELCALID:d06560c4ef332a7fc6538db0110e08f1
X-WR-TIMEZONE:America/New_York
BEGIN:VTIMEZONE
TZID:America/New_York
BEGIN:STANDARD
TZNAME:EST
DTSTART:20241103T020000
TZOFFSETFROM:-0400
TZOFFSETTO:-0500
RDATE:20251102T020000
END:STANDARD
BEGIN:DAYLIGHT
TZNAME:EDT
DTSTART:20240310T020000
TZOFFSETFROM:-0500
TZOFFSETTO:-0400
RDATE:20250309T020000
RDATE:20260308T020000
END:DAYLIGHT
END:VTIMEZONE
BEGIN:VEVENT
UID:bd695a0a-df96-45e0-89dd-6b4ce2e286f0
DTSTAMP:20260424T063119Z
DESCRIPTION:
DTSTART;TZID=America/New_York:20250208T110000
DTEND;TZID=America/New_York:20250208T150000
LOCATION:Newburgh Armory\, 321 South William St.\, Newburgh\, NY 12550 US
SUMMARY:Sweetheart Screening Event
END:VEVENT
END:VCALENDAR
