BEGIN:VCALENDAR
VERSION:2.0
PRODID:-//mhaorangeny.com//NONSGML kigkonsult.se iCalcreator 2.30.10//
CALSCALE:GREGORIAN
METHOD:PUBLISH
UID:67266ffb-0ac2-484e-b5c3-e74300e9f6b3
X-WR-CALDESC:Event will also be livestreamed.
X-WR-RELCALID:463408275f6e5007fa141d158ad41281
X-WR-TIMEZONE:America/Chicago
BEGIN:VTIMEZONE
TZID:America/Chicago
BEGIN:STANDARD
TZNAME:CST
DTSTART:20241103T020000
TZOFFSETFROM:-0500
TZOFFSETTO:-0600
RDATE:20251102T020000
END:STANDARD
BEGIN:DAYLIGHT
TZNAME:CDT
DTSTART:20240310T020000
TZOFFSETFROM:-0600
TZOFFSETTO:-0500
RDATE:20250309T020000
RDATE:20260308T020000
END:DAYLIGHT
END:VTIMEZONE
BEGIN:VEVENT
UID:ebf4e296-2988-40ba-8e18-2d3512e08867
DTSTAMP:20260424T033731Z
DESCRIPTION:Event will also be livestreamed.
DTSTART;TZID=America/Chicago:20241218T140000
DTEND;TZID=America/Chicago:20241218T160000
LOCATION:Empire State Plaza\, 100 S Mall Arterial\, Albany \, NY 12242 US
SUMMARY:OMH Statewide Townhall
END:VEVENT
END:VCALENDAR
