BEGIN:VCALENDAR
VERSION:2.0
PRODID:-//mhaorangeny.com//NONSGML kigkonsult.se iCalcreator 2.30.10//
CALSCALE:GREGORIAN
METHOD:PUBLISH
UID:8d799179-f00b-46a7-b2a1-a0c164294077
X-WR-CALDESC:Veteran Taichi/Qigong at Cornerstone on the 1st and 3rd Wednes
 day of each month.
X-WR-RELCALID:0cca7b52eeb950c7c1070ae900966b00
X-WR-TIMEZONE:America/Chicago
BEGIN:VTIMEZONE
TZID:America/Chicago
BEGIN:STANDARD
TZNAME:CST
DTSTART:20241103T020000
TZOFFSETFROM:-0500
TZOFFSETTO:-0600
RDATE:20251102T020000
END:STANDARD
BEGIN:DAYLIGHT
TZNAME:CDT
DTSTART:20240310T020000
TZOFFSETFROM:-0600
TZOFFSETTO:-0500
RDATE:20250309T020000
RDATE:20260308T020000
END:DAYLIGHT
END:VTIMEZONE
BEGIN:VEVENT
UID:a5c6dcc7-598f-44ec-9315-144a0caa9319
DTSTAMP:20260420T190809Z
DESCRIPTION:Veteran Taichi/Qigong at Cornerstone on the 1st and 3rd Wednesd
 ay of each month.
DTSTART;TZID=America/Chicago:20241204T180000
DTEND;TZID=America/Chicago:20241204T180000
LOCATION:111 Broadway Newburgh\, Newburgh\, NY 12550 US
SUMMARY:Vet2Vet Taichi/Qigong
END:VEVENT
END:VCALENDAR
