BEGIN:VCALENDAR
VERSION:2.0
PRODID:-//mhaorangeny.com//NONSGML kigkonsult.se iCalcreator 2.30.10//
CALSCALE:GREGORIAN
METHOD:PUBLISH
UID:39267e35-d4d4-4c01-b306-e62d2211083f
X-WR-CALDESC:
X-WR-RELCALID:815823b367ca509b9bcc663932adb06f
X-WR-TIMEZONE:America/Chicago
BEGIN:VTIMEZONE
TZID:America/Chicago
BEGIN:STANDARD
TZNAME:CST
DTSTART:20241103T020000
TZOFFSETFROM:-0500
TZOFFSETTO:-0600
RDATE:20251102T020000
END:STANDARD
BEGIN:DAYLIGHT
TZNAME:CDT
DTSTART:20240310T020000
TZOFFSETFROM:-0600
TZOFFSETTO:-0500
RDATE:20250309T020000
RDATE:20260308T020000
END:DAYLIGHT
END:VTIMEZONE
BEGIN:VEVENT
UID:cbb9879a-bfa9-49a0-ac95-1edf1d598d84
DTSTAMP:20260424T014648Z
DESCRIPTION:
DTSTART;TZID=America/Chicago:20241112T113000
DTEND;TZID=America/Chicago:20241112T130000
LOCATION:
SUMMARY:Self Care Connection Series - Virtual Meeting
END:VEVENT
END:VCALENDAR
