BEGIN:VCALENDAR
VERSION:2.0
PRODID:-//mhaorangeny.com//NONSGML kigkonsult.se iCalcreator 2.30.10//
CALSCALE:GREGORIAN
METHOD:PUBLISH
UID:7105e58f-9e26-42b1-bb97-b4207c4b3bf1
X-WR-CALDESC:
X-WR-RELCALID:2cda3090b08798b0554f61d8d21882d9
X-WR-TIMEZONE:America/Chicago
BEGIN:VTIMEZONE
TZID:America/Chicago
BEGIN:STANDARD
TZNAME:CST
DTSTART:20231105T020000
TZOFFSETFROM:-0500
TZOFFSETTO:-0600
RDATE:20241103T020000
RDATE:20251102T020000
END:STANDARD
BEGIN:DAYLIGHT
TZNAME:CDT
DTSTART:20240310T020000
TZOFFSETFROM:-0600
TZOFFSETTO:-0500
RDATE:20250309T020000
RDATE:20260308T020000
END:DAYLIGHT
END:VTIMEZONE
BEGIN:VEVENT
UID:67ba5e19-4d51-4132-99d4-1cf4ca09828d
DTSTAMP:20260424T001900Z
DESCRIPTION:
DTSTART;TZID=America/Chicago:20241030T100000
DTEND;TZID=America/Chicago:20241031T110000
LOCATION:Empire State Plaza \, Convention Center\, Albany\, NY 12207 US
SUMMARY:Domestic Violence Lethality Summit - Learn the signs and what they 
 mean.
END:VEVENT
END:VCALENDAR
