BEGIN:VCALENDAR
VERSION:2.0
PRODID:-//mhaorangeny.com//NONSGML kigkonsult.se iCalcreator 2.30.10//
CALSCALE:GREGORIAN
METHOD:PUBLISH
UID:d6cba548-3c90-4da7-b1ef-e7a023f16086
X-WR-CALDESC:
X-WR-RELCALID:ec4370bae3ad3cfe233e90529a94c01e
X-WR-TIMEZONE:America/Chicago
BEGIN:VTIMEZONE
TZID:America/Chicago
BEGIN:STANDARD
TZNAME:CST
DTSTART:20231105T020000
TZOFFSETFROM:-0500
TZOFFSETTO:-0600
RDATE:20241103T020000
RDATE:20251102T020000
END:STANDARD
BEGIN:DAYLIGHT
TZNAME:CDT
DTSTART:20240310T020000
TZOFFSETFROM:-0600
TZOFFSETTO:-0500
RDATE:20250309T020000
RDATE:20260308T020000
END:DAYLIGHT
END:VTIMEZONE
BEGIN:VEVENT
UID:7f548326-1901-4496-93f7-554b1616fe6b
DTSTAMP:20260424T001645Z
DESCRIPTION:
DTSTART;TZID=America/Chicago:20241021T190000
DTEND;TZID=America/Chicago:20241021T203000
LOCATION:https://us02web.zoom.us/meeting/register/tZMvd-CsqDsjGtTsgr17G8G0u
 crKmjTa1ZRp#/registration
SUMMARY:Annual Candlelight Vigil- People Sharing Lived Experience  Presente
 d by MHA and NAMI
END:VEVENT
END:VCALENDAR
