BEGIN:VCALENDAR
VERSION:2.0
PRODID:-//mhaorangeny.com//NONSGML kigkonsult.se iCalcreator 2.30.10//
CALSCALE:GREGORIAN
METHOD:PUBLISH
UID:c56ab787-48ad-41e1-8572-d8f2d7ab42b9
X-WR-CALDESC:A day of Halloween fun hosted by Health First!\nFace Painting\
 , Movie\, Trunk or Treat\, Popcorn and Giveaways!
X-WR-RELCALID:ccea81975f95569fc1926a5870db7a9c
X-WR-TIMEZONE:America/Chicago
BEGIN:VTIMEZONE
TZID:America/Chicago
BEGIN:STANDARD
TZNAME:CST
DTSTART:20231105T020000
TZOFFSETFROM:-0500
TZOFFSETTO:-0600
RDATE:20241103T020000
RDATE:20251102T020000
END:STANDARD
BEGIN:DAYLIGHT
TZNAME:CDT
DTSTART:20240310T020000
TZOFFSETFROM:-0600
TZOFFSETTO:-0500
RDATE:20250309T020000
RDATE:20260308T020000
END:DAYLIGHT
END:VTIMEZONE
BEGIN:VEVENT
UID:4a7ffdb7-6a3a-49b1-b228-6d222255d96c
DTSTAMP:20260424T000748Z
DESCRIPTION:A day of Halloween fun hosted by Health First!\nFace Painting\,
  Movie\, Trunk or Treat\, Popcorn and Giveaways!
DTSTART;TZID=America/Chicago:20241019T120000
DTEND;TZID=America/Chicago:20241019T150000
LOCATION:50 NY 17K\, Newburgh\, NY 12550 US
SUMMARY:Spooktacular Saturday
END:VEVENT
END:VCALENDAR
