BEGIN:VCALENDAR
VERSION:2.0
PRODID:-//mhaorangeny.com//NONSGML kigkonsult.se iCalcreator 2.30.10//
CALSCALE:GREGORIAN
METHOD:PUBLISH
UID:a3636b44-9ca2-45f4-bf4e-a911389efd6b
X-WR-CALDESC:
X-WR-RELCALID:378232534eef758293f067ab1b613690
X-WR-TIMEZONE:America/Chicago
BEGIN:VTIMEZONE
TZID:America/Chicago
BEGIN:STANDARD
TZNAME:CST
DTSTART:20231105T020000
TZOFFSETFROM:-0500
TZOFFSETTO:-0600
RDATE:20241103T020000
RDATE:20251102T020000
END:STANDARD
BEGIN:DAYLIGHT
TZNAME:CDT
DTSTART:20240310T020000
TZOFFSETFROM:-0600
TZOFFSETTO:-0500
RDATE:20250309T020000
RDATE:20260308T020000
END:DAYLIGHT
END:VTIMEZONE
BEGIN:VEVENT
UID:f6e7fb6f-5a5c-42fb-857b-84d9ff9dc91e
DTSTAMP:20260424T001453Z
DESCRIPTION:
DTSTART;TZID=America/Chicago:20241019T050000
DTEND;TZID=America/Chicago:20241019T050001
LOCATION:1 Galleria Mall Dr.\, Middletown\, NY 10940 US
SUMMARY:Neurodiverse Walk and Wheel
END:VEVENT
END:VCALENDAR
