BEGIN:VCALENDAR
VERSION:2.0
PRODID:-//mhaorangeny.com//NONSGML kigkonsult.se iCalcreator 2.30.10//
CALSCALE:GREGORIAN
METHOD:PUBLISH
UID:b082863f-c95d-453e-acd4-3b1c24fb22ac
X-WR-CALDESC:The bridge will light up teal in observation of OCD awareness 
 week.
X-WR-RELCALID:1c9d35018d6f970960ace521666877cf
X-WR-TIMEZONE:America/Chicago
BEGIN:VTIMEZONE
TZID:America/Chicago
BEGIN:STANDARD
TZNAME:CST
DTSTART:20231105T020000
TZOFFSETFROM:-0500
TZOFFSETTO:-0600
RDATE:20241103T020000
RDATE:20251102T020000
END:STANDARD
BEGIN:DAYLIGHT
TZNAME:CDT
DTSTART:20240310T020000
TZOFFSETFROM:-0600
TZOFFSETTO:-0500
RDATE:20250309T020000
RDATE:20260308T020000
END:DAYLIGHT
END:VTIMEZONE
BEGIN:VEVENT
UID:b37c18f0-8b95-4cae-8b19-976382fd738c
DTSTAMP:20260424T001800Z
DESCRIPTION:The bridge will light up teal in observation of OCD awareness w
 eek.
DTSTART;TZID=America/Chicago:20241011T050000
DTEND;TZID=America/Chicago:20241011T050001
LOCATION:475 U.S. 44 55\, Poughkeepsie\, NY 12601 US
SUMMARY:OCD Awareness Week Mid-Hudson Bridge Lighting
END:VEVENT
END:VCALENDAR
