BEGIN:VCALENDAR
VERSION:2.0
PRODID:-//mhaorangeny.com//NONSGML kigkonsult.se iCalcreator 2.30.10//
CALSCALE:GREGORIAN
METHOD:PUBLISH
UID:878f9768-1b4a-4571-9d6f-2de1c2fa62a5
X-WR-CALDESC:Narcan Training\nJoin us for a hands-on Narcan training sessio
 n at 2 Senior Way\, Maybrook\, NY\, USA. Learn how to administer this life
 -saving medication to reverse opioid overdoses. This in-person event will 
 equip you with the knowledge and skills to potentially save a life. Don't 
 miss this opportunity to make a difference in your community. Register now
 !
X-WR-RELCALID:bf68f4ee61caf5d9241158e4b9f2158f
X-WR-TIMEZONE:America/Chicago
BEGIN:VTIMEZONE
TZID:America/Chicago
BEGIN:STANDARD
TZNAME:CST
DTSTART:20231105T020000
TZOFFSETFROM:-0500
TZOFFSETTO:-0600
RDATE:20241103T020000
RDATE:20251102T020000
END:STANDARD
BEGIN:DAYLIGHT
TZNAME:CDT
DTSTART:20240310T020000
TZOFFSETFROM:-0600
TZOFFSETTO:-0500
RDATE:20250309T020000
RDATE:20260308T020000
END:DAYLIGHT
END:VTIMEZONE
BEGIN:VEVENT
UID:09c81321-97e2-40b3-a7ad-3db96dcce2be
DTSTAMP:20260424T000456Z
DESCRIPTION:Narcan Training\nJoin us for a hands-on Narcan training session
  at 2 Senior Way\, Maybrook\, NY\, USA. Learn how to administer this life-
 saving medication to reverse opioid overdoses. This in-person event will e
 quip you with the knowledge and skills to potentially save a life. Don't m
 iss this opportunity to make a difference in your community. Register now!
DTSTART;TZID=America/Chicago:20241008T183000
DTEND;TZID=America/Chicago:20241008T203000
LOCATION:Maybrook Senior Center\, 2 Senior Way \, Maybrook\, NY 12543 US
SUMMARY:Narcan Training
END:VEVENT
END:VCALENDAR
