BEGIN:VCALENDAR
VERSION:2.0
PRODID:-//mhaorangeny.com//NONSGML kigkonsult.se iCalcreator 2.30.10//
CALSCALE:GREGORIAN
METHOD:PUBLISH
UID:b5e2c0cf-c599-4f12-a135-09dba2c61c58
X-WR-CALDESC:
X-WR-RELCALID:5261679acfe0b7c9c35bdd42000a2749
X-WR-TIMEZONE:America/Chicago
BEGIN:VTIMEZONE
TZID:America/Chicago
BEGIN:STANDARD
TZNAME:CST
DTSTART:20231105T020000
TZOFFSETFROM:-0500
TZOFFSETTO:-0600
RDATE:20241103T020000
RDATE:20251102T020000
END:STANDARD
BEGIN:DAYLIGHT
TZNAME:CDT
DTSTART:20240310T020000
TZOFFSETFROM:-0600
TZOFFSETTO:-0500
RDATE:20250309T020000
RDATE:20260308T020000
END:DAYLIGHT
END:VTIMEZONE
BEGIN:VEVENT
UID:33e2dd73-86ee-4e25-a2a9-39b4bc27539a
DTSTAMP:20260423T225346Z
DESCRIPTION:
DTSTART;TZID=America/Chicago:20240928T140000
DTEND;TZID=America/Chicago:20240928T170000
LOCATION:Fancher-Davidge Park\, 130 Lake Ave\, Middletown\, NY 10940 US
SUMMARY:National Night Out - Middletown
END:VEVENT
END:VCALENDAR
