BEGIN:VCALENDAR
VERSION:2.0
PRODID:-//mhaorangeny.com//NONSGML kigkonsult.se iCalcreator 2.30.10//
CALSCALE:GREGORIAN
METHOD:PUBLISH
UID:b32d50b4-83b1-4789-9bc1-40c92ab4b6d1
X-WR-CALDESC:
X-WR-RELCALID:daa61d39bbfb146d339043a774b5e906
X-WR-TIMEZONE:America/Chicago
BEGIN:VTIMEZONE
TZID:America/Chicago
BEGIN:STANDARD
TZNAME:CST
DTSTART:20231105T020000
TZOFFSETFROM:-0500
TZOFFSETTO:-0600
RDATE:20241103T020000
RDATE:20251102T020000
END:STANDARD
BEGIN:DAYLIGHT
TZNAME:CDT
DTSTART:20240310T020000
TZOFFSETFROM:-0600
TZOFFSETTO:-0500
RDATE:20250309T020000
RDATE:20260308T020000
END:DAYLIGHT
END:VTIMEZONE
BEGIN:VEVENT
UID:abad1599-4551-4f80-a6ce-fdeed664df17
DTSTAMP:20260423T224500Z
DESCRIPTION:
DTSTART;TZID=America/Chicago:20240922T090000
DTEND;TZID=America/Chicago:20240922T120000
LOCATION:123 Coach Wilson Trail\, Highland Mills\, NY 10930 US
SUMMARY:Out of Darkness Walk
END:VEVENT
END:VCALENDAR
