BEGIN:VCALENDAR
VERSION:2.0
PRODID:-//mhaorangeny.com//NONSGML kigkonsult.se iCalcreator 2.30.10//
CALSCALE:GREGORIAN
METHOD:PUBLISH
UID:b2ccd909-9310-4ee9-af7d-e808974ccb2b
X-WR-CALDESC:Come join us in memorializing those we've lost to addiction an
 d overdose.
X-WR-RELCALID:81d4adb57b4f448afd19da41f2967011
X-WR-TIMEZONE:America/New_York
BEGIN:VTIMEZONE
TZID:America/New_York
BEGIN:STANDARD
TZNAME:EST
DTSTART:20231105T020000
TZOFFSETFROM:-0400
TZOFFSETTO:-0500
RDATE:20241103T020000
RDATE:20251102T020000
END:STANDARD
BEGIN:DAYLIGHT
TZNAME:EDT
DTSTART:20240310T020000
TZOFFSETFROM:-0500
TZOFFSETTO:-0400
RDATE:20250309T020000
RDATE:20260308T020000
END:DAYLIGHT
END:VTIMEZONE
BEGIN:VEVENT
UID:a71510db-480c-4669-97da-d14fecbab6da
DTSTAMP:20260423T225514Z
DESCRIPTION:Come join us in memorializing those we've lost to addiction and
  overdose.
DTSTART;TZID=America/New_York:20240907T060000
DTEND;TZID=America/New_York:20240907T060001
LOCATION:104 East Main Street\, Walden\, NY 12586 US
SUMMARY:Drug Overdose Awareness Memorial
END:VEVENT
END:VCALENDAR
