BEGIN:VCALENDAR
VERSION:2.0
PRODID:-//mhaorangeny.com//NONSGML kigkonsult.se iCalcreator 2.30.10//
CALSCALE:GREGORIAN
METHOD:PUBLISH
UID:7dd460c3-dd2a-4475-bf12-cb217adbb656
X-WR-CALDESC:Please join us in remembering those we've lost to addiction an
 d overdose.
X-WR-RELCALID:f5a51e8f245c0014fc80b6ac4dea4856
X-WR-TIMEZONE:America/New_York
BEGIN:VTIMEZONE
TZID:America/New_York
BEGIN:STANDARD
TZNAME:EST
DTSTART:20231105T020000
TZOFFSETFROM:-0400
TZOFFSETTO:-0500
RDATE:20241103T020000
RDATE:20251102T020000
END:STANDARD
BEGIN:DAYLIGHT
TZNAME:EDT
DTSTART:20240310T020000
TZOFFSETFROM:-0500
TZOFFSETTO:-0400
RDATE:20250309T020000
END:DAYLIGHT
END:VTIMEZONE
BEGIN:VEVENT
UID:b54b1317-0f67-4ae7-85bf-4b73e85af64b
DTSTAMP:20260423T212351Z
DESCRIPTION:Please join us in remembering those we've lost to addiction and
  overdose.
DTSTART;TZID=America/New_York:20240831T190000
DTEND;TZID=America/New_York:20240831T210000
LOCATION:1 Little League Way\, Middletown\, NY 10940 US
SUMMARY:Drug Overdose Awareness Memorial
END:VEVENT
END:VCALENDAR
