BEGIN:VCALENDAR
VERSION:2.0
PRODID:-//mhaorangeny.com//NONSGML kigkonsult.se iCalcreator 2.30.10//
CALSCALE:GREGORIAN
METHOD:PUBLISH
UID:488e74f8-1c66-4e90-bcac-00a69f3ce18f
X-WR-CALDESC:Goshen - 27 Matthews St.\nMiddletown - 305 North St.\nMonticel
 lo - 396 Broadway\nNewburgh - 280 Broadway \nPort Jervis - 150 Pike St.\n
 \n
X-WR-RELCALID:fed51188938f9093e8b4f26bb432449a
X-WR-TIMEZONE:America/Chicago
BEGIN:VTIMEZONE
TZID:America/Chicago
BEGIN:STANDARD
TZNAME:CST
DTSTART:20231105T020000
TZOFFSETFROM:-0500
TZOFFSETTO:-0600
RDATE:20241103T020000
RDATE:20251102T020000
END:STANDARD
BEGIN:DAYLIGHT
TZNAME:CDT
DTSTART:20240310T020000
TZOFFSETFROM:-0600
TZOFFSETTO:-0500
RDATE:20250309T020000
END:DAYLIGHT
END:VTIMEZONE
BEGIN:VEVENT
UID:51d1f6fd-1ffd-4a45-9c50-e7eaee1ed0a9
DTSTAMP:20260423T212142Z
DESCRIPTION:Goshen - 27 Matthews St.\nMiddletown - 305 North St.\nMonticell
 o - 396 Broadway\nNewburgh - 280 Broadway \nPort Jervis - 150 Pike St.\n\n
DTSTART;TZID=America/Chicago:20240830T100000
DTEND;TZID=America/Chicago:20240830T140000
LOCATION:Multiple Catholic Charities Locations
SUMMARY:Overdose Awareness and Narcan Training at Catholic Charities
END:VEVENT
END:VCALENDAR
