BEGIN:VCALENDAR
VERSION:2.0
PRODID:-//mhaorangeny.com//NONSGML kigkonsult.se iCalcreator 2.30.10//
CALSCALE:GREGORIAN
METHOD:PUBLISH
UID:141a8060-fd4c-4212-a8ab-24779e2644b7
X-WR-CALDESC:
X-WR-RELCALID:35839e9a940e157472216feff02c0fa9
X-WR-TIMEZONE:America/New_York
BEGIN:VTIMEZONE
TZID:America/New_York
BEGIN:STANDARD
TZNAME:EST
DTSTART:20231105T020000
TZOFFSETFROM:-0400
TZOFFSETTO:-0500
RDATE:20241103T020000
RDATE:20251102T020000
END:STANDARD
BEGIN:DAYLIGHT
TZNAME:EDT
DTSTART:20240310T020000
TZOFFSETFROM:-0500
TZOFFSETTO:-0400
RDATE:20250309T020000
END:DAYLIGHT
END:VTIMEZONE
BEGIN:VEVENT
UID:2a389b5d-cb20-43ef-88eb-4eef18496b2f
DTSTAMP:20260423T212330Z
DESCRIPTION:
DTSTART;TZID=America/New_York:20240828T190000
DTEND;TZID=America/New_York:20240828T220000
LOCATION:Riverside Park\, 4th st \, Port Jervis\, NY 12771 US
SUMMARY:National Night Out - Port Jervis
END:VEVENT
END:VCALENDAR
