BEGIN:VCALENDAR
VERSION:2.0
PRODID:-//mhaorangeny.com//NONSGML kigkonsult.se iCalcreator 2.30.10//
CALSCALE:GREGORIAN
METHOD:PUBLISH
UID:dbe26a30-d580-4044-825a-0208bdc546ec
X-WR-CALDESC:Veteran's Appreciation Day baseball game at Dutchess Stadium f
 or the Hudson Valley Renegades. \n\nTicket includes pre-game food & bevera
 ge\, pre-game ceremony honoring Veterans\, and post-game fireworks! \n\nWH
 O: Open to veterans and their families (kids welcome!)
X-WR-RELCALID:5b874401d25823d7081153824af2db58
X-WR-TIMEZONE:America/Chicago
BEGIN:VTIMEZONE
TZID:America/Chicago
BEGIN:STANDARD
TZNAME:CST
DTSTART:20231105T020000
TZOFFSETFROM:-0500
TZOFFSETTO:-0600
RDATE:20241103T020000
RDATE:20251102T020000
END:STANDARD
BEGIN:DAYLIGHT
TZNAME:CDT
DTSTART:20240310T020000
TZOFFSETFROM:-0600
TZOFFSETTO:-0500
RDATE:20250309T020000
END:DAYLIGHT
END:VTIMEZONE
BEGIN:VEVENT
UID:06e7c8df-43b1-453e-af54-98e428d5eb8e
DTSTAMP:20260423T212248Z
DESCRIPTION:Veteran's Appreciation Day baseball game at Dutchess Stadium fo
 r the Hudson Valley Renegades. \n\nTicket includes pre-game food & beverag
 e\, pre-game ceremony honoring Veterans\, and post-game fireworks! \n\nWHO
 : Open to veterans and their families (kids welcome!)
DTSTART;TZID=America/Chicago:20240825T140000
DTEND;TZID=America/Chicago:20240825T190000
LOCATION:1500 NY-9D\, Wappinger Falls\, NY 12590 US
SUMMARY:Veterans Appreciation Renegades Game
END:VEVENT
END:VCALENDAR
