BEGIN:VCALENDAR
VERSION:2.0
PRODID:-//mhaorangeny.com//NONSGML kigkonsult.se iCalcreator 2.30.10//
CALSCALE:GREGORIAN
METHOD:PUBLISH
UID:b26e91b0-900b-4ca1-ae37-dc91343db26b
X-WR-CALDESC:
X-WR-RELCALID:5b8b23c45cfbccb47462415665dd1d69
X-WR-TIMEZONE:America/Chicago
BEGIN:VTIMEZONE
TZID:America/Chicago
BEGIN:STANDARD
TZNAME:CST
DTSTART:20231105T020000
TZOFFSETFROM:-0500
TZOFFSETTO:-0600
RDATE:20241103T020000
RDATE:20251102T020000
END:STANDARD
BEGIN:DAYLIGHT
TZNAME:CDT
DTSTART:20240310T020000
TZOFFSETFROM:-0600
TZOFFSETTO:-0500
RDATE:20250309T020000
END:DAYLIGHT
END:VTIMEZONE
BEGIN:VEVENT
UID:65987034-cbcc-455c-b8ce-99e1e3942fd5
DTSTAMP:20260423T212157Z
DESCRIPTION:
DTSTART;TZID=America/Chicago:20240817T183000
DTEND;TZID=America/Chicago:20240817T213000
LOCATION:Bradley Park\, 48 Samuel E. Wright Way (formerly Albany Ave) \, Wa
 lden\, NY 12586 US
SUMMARY:National Night Out - Walden
END:VEVENT
END:VCALENDAR
