BEGIN:VCALENDAR
VERSION:2.0
PRODID:-//mhaorangeny.com//NONSGML kigkonsult.se iCalcreator 2.30.10//
CALSCALE:GREGORIAN
METHOD:PUBLISH
UID:7f7c0f3e-ea83-411c-9d47-0e171a9788f8
X-WR-CALDESC:
X-WR-RELCALID:0eeb6336219907d89ec5c67bc9f5c954
X-WR-TIMEZONE:America/New_York
BEGIN:VTIMEZONE
TZID:America/New_York
BEGIN:STANDARD
TZNAME:EST
DTSTART:20231105T020000
TZOFFSETFROM:-0400
TZOFFSETTO:-0500
RDATE:20241103T020000
RDATE:20251102T020000
END:STANDARD
BEGIN:DAYLIGHT
TZNAME:EDT
DTSTART:20240310T020000
TZOFFSETFROM:-0500
TZOFFSETTO:-0400
RDATE:20250309T020000
END:DAYLIGHT
END:VTIMEZONE
BEGIN:VEVENT
UID:3f3ad959-f299-435d-816c-f3c4df72ce34
DTSTAMP:20260423T212218Z
DESCRIPTION:
DTSTART;TZID=America/New_York:20240813T170000
DTEND;TZID=America/New_York:20240813T190000
LOCATION:Broadway \, Between Johnston and Liberty St.\, Newburgh\, NY 12550
  US
SUMMARY:National Night Out - Newburgh
END:VEVENT
END:VCALENDAR
