BEGIN:VCALENDAR
VERSION:2.0
PRODID:-//mhaorangeny.com//NONSGML kigkonsult.se iCalcreator 2.30.10//
CALSCALE:GREGORIAN
METHOD:PUBLISH
UID:fdbc7d10-aa3a-4d7f-bc59-e3f98d71e27c
X-WR-CALDESC:
X-WR-RELCALID:a9e0ae2702df93fa736197c9d2caba6b
X-WR-TIMEZONE:America/New_York
BEGIN:VTIMEZONE
TZID:America/New_York
BEGIN:STANDARD
TZNAME:EST
DTSTART:20231105T020000
TZOFFSETFROM:-0400
TZOFFSETTO:-0500
RDATE:20241103T020000
RDATE:20251102T020000
END:STANDARD
BEGIN:DAYLIGHT
TZNAME:EDT
DTSTART:20240310T020000
TZOFFSETFROM:-0500
TZOFFSETTO:-0400
RDATE:20250309T020000
END:DAYLIGHT
END:VTIMEZONE
BEGIN:VEVENT
UID:578289a2-308e-433c-b963-e43bd3a0ea5b
DTSTAMP:20260423T212142Z
DESCRIPTION:
DTSTART;TZID=America/New_York:20240813T170000
DTEND;TZID=America/New_York:20240813T200000
LOCATION:21 Grove St.\, Middletown\, NY 10940 US
SUMMARY:National Night Out - Middletown
END:VEVENT
END:VCALENDAR
