BEGIN:VCALENDAR
VERSION:2.0
PRODID:-//mhaorangeny.com//NONSGML kigkonsult.se iCalcreator 2.30.10//
CALSCALE:GREGORIAN
METHOD:PUBLISH
UID:5e9e748b-b951-42e9-9f46-4bd82746b503
X-WR-CALDESC:Veteran Writers Workshop every 2nd and 4th Wednesday of the mo
 nth at Cornerstone.  Call Bryon for more information.
X-WR-RELCALID:68ac61f8cc62ab2c7295e9a7ecb428cb
X-WR-TIMEZONE:America/New_York
BEGIN:VTIMEZONE
TZID:America/New_York
BEGIN:STANDARD
TZNAME:EST
DTSTART:20231105T020000
TZOFFSETFROM:-0400
TZOFFSETTO:-0500
RDATE:20241103T020000
RDATE:20251102T020000
END:STANDARD
BEGIN:DAYLIGHT
TZNAME:EDT
DTSTART:20240310T020000
TZOFFSETFROM:-0500
TZOFFSETTO:-0400
RDATE:20250309T020000
END:DAYLIGHT
END:VTIMEZONE
BEGIN:VEVENT
UID:32e47a2d-1b9b-462e-b8f0-113bb4dea07d
DTSTAMP:20260425T022533Z
DESCRIPTION:Veteran Writers Workshop every 2nd and 4th Wednesday of the mon
 th at Cornerstone.  Call Bryon for more information.
DTSTART;TZID=America/New_York:20240522T180000
DTEND;TZID=America/New_York:20240522T180000
LOCATION:111 Broadway \, Newburgh \, NY 12550 US
SUMMARY:Veteran Writers Workshop
END:VEVENT
END:VCALENDAR
