BEGIN:VCALENDAR
VERSION:2.0
PRODID:-//mhaorangeny.com//NONSGML kigkonsult.se iCalcreator 2.30.10//
CALSCALE:GREGORIAN
METHOD:PUBLISH
UID:78956756-e87a-40f8-bd15-d1baa43c0fa9
X-WR-CALDESC:Join millions of people across the world that will wear jeans 
 with a purpose\, support survivors\, and educate themselves and others abo
 ut all forms of sexual violence.
X-WR-RELCALID:0ae33defce8663f0b467a4951a5ad36f
X-WR-TIMEZONE:America/Chicago
BEGIN:VTIMEZONE
TZID:America/Chicago
BEGIN:STANDARD
TZNAME:CST
DTSTART:20231105T020000
TZOFFSETFROM:-0500
TZOFFSETTO:-0600
RDATE:20241103T020000
END:STANDARD
BEGIN:DAYLIGHT
TZNAME:CDT
DTSTART:20240310T020000
TZOFFSETFROM:-0600
TZOFFSETTO:-0500
RDATE:20250309T020000
END:DAYLIGHT
END:VTIMEZONE
BEGIN:VEVENT
UID:ba44c9e9-b54d-43b3-a47d-b7a56f44030e
DTSTAMP:20260423T152141Z
DESCRIPTION:Join millions of people across the world that will wear jeans w
 ith a purpose\, support survivors\, and educate themselves and others abou
 t all forms of sexual violence.
DTSTART;TZID=America/Chicago:20240424T050000
DTEND;TZID=America/Chicago:20240424T050001
LOCATION:Anywhere\, Everywhere
SUMMARY:Denim Day
END:VEVENT
END:VCALENDAR
