BEGIN:VCALENDAR
VERSION:2.0
PRODID:-//mhaorangeny.com//NONSGML kigkonsult.se iCalcreator 2.30.10//
CALSCALE:GREGORIAN
METHOD:PUBLISH
UID:360255f6-4e8d-4ec8-8cd7-0164d511f5ad
X-WR-CALDESC:Options\, services\, and hope for crime survivors.The 2024 the
 me asks all of us—friends\, family members\, neighbors\, colleagues\, comm
 unity leaders\, victim service providers\, criminal justice practitioners\
 ,and health professionals—how we can help crime victims. Are you prepared 
 if someone confides in you about a victimization? Is your organization vic
 tim-centered and trauma-informed? Are you familiar with the services avail
 able in your community? \n\nYOU ARE CORDIALLY INVITED TO A TREE DEDICATION
  AND CANDLELIGHT VIGIL\,HONORING THE VICTIMS OF CRIME\, THEIR FAMILIES\, S
 UPPORTERS AND COMMUNITY MEMBERS. Crisis counselors will be available throu
 ghout the ceremony PARENTAL ADVISORY: SPEECH CONTENT MAY NOT BEAPPROPRIATE
  FOR YOUNGER CHILDREN.
X-WR-RELCALID:7d450914148849ee4cc0959157e9ae2b
X-WR-TIMEZONE:America/Chicago
BEGIN:VTIMEZONE
TZID:America/Chicago
BEGIN:STANDARD
TZNAME:CST
DTSTART:20231105T020000
TZOFFSETFROM:-0500
TZOFFSETTO:-0600
RDATE:20241103T020000
END:STANDARD
BEGIN:DAYLIGHT
TZNAME:CDT
DTSTART:20240310T020000
TZOFFSETFROM:-0600
TZOFFSETTO:-0500
RDATE:20250309T020000
END:DAYLIGHT
END:VTIMEZONE
BEGIN:VEVENT
UID:2276bb49-f4d9-4d39-a791-085785db94be
DTSTAMP:20260423T150939Z
DESCRIPTION:Options\, services\, and hope for crime survivors.The 2024 them
 e asks all of us—friends\, family members\, neighbors\, colleagues\, commu
 nity leaders\, victim service providers\, criminal justice practitioners\,
 and health professionals—how we can help crime victims. Are you prepared i
 f someone confides in you about a victimization? Is your organization vict
 im-centered and trauma-informed? Are you familiar with the services availa
 ble in your community? \n\nYOU ARE CORDIALLY INVITED TO A TREE DEDICATION 
 AND CANDLELIGHT VIGIL\,HONORING THE VICTIMS OF CRIME\, THEIR FAMILIES\, SU
 PPORTERS AND COMMUNITY MEMBERS. Crisis counselors will be available throug
 hout the ceremony PARENTAL ADVISORY: SPEECH CONTENT MAY NOT BEAPPROPRIATE 
 FOR YOUNGER CHILDREN.
DTSTART;TZID=America/Chicago:20240423T180000
DTEND;TZID=America/Chicago:20240423T200000
LOCATION:255 Main Street\, Goshen\, NY 10924 US
SUMMARY:TREE DEDICATION AND CANDLELIGHT VIGIL\,HONORING THE VICTIMS OF CRIM
 E\, THEIR FAMILIES\, SUPPORTERS AND COMMUNITY MEMBERS
END:VEVENT
END:VCALENDAR
