BEGIN:VCALENDAR
VERSION:2.0
PRODID:-//mhaorangeny.com//NONSGML kigkonsult.se iCalcreator 2.30.10//
CALSCALE:GREGORIAN
METHOD:PUBLISH
UID:97425ae0-adff-4074-aac4-60905fa58e8d
X-WR-CALDESC:A monthly meeting that provides advocacy\, support\, lived exp
 erience\, and information for families of adults with severe and persisten
 t mental illness. The group meets the 3rd Thursday of each month. Email ls
 ager@mhaorangeny.com or phone 845-325-2899 for additional information.
X-WR-RELCALID:2f58e4cb75043d10fd011ccc1c7c7409
X-WR-TIMEZONE:America/Chicago
BEGIN:VTIMEZONE
TZID:America/Chicago
BEGIN:STANDARD
TZNAME:CST
DTSTART:20231105T020000
TZOFFSETFROM:-0500
TZOFFSETTO:-0600
RDATE:20241103T020000
END:STANDARD
BEGIN:DAYLIGHT
TZNAME:CDT
DTSTART:20230312T020000
TZOFFSETFROM:-0600
TZOFFSETTO:-0500
RDATE:20240310T020000
RDATE:20250309T020000
END:DAYLIGHT
END:VTIMEZONE
BEGIN:VEVENT
UID:551cbec0-c717-416f-8a60-4d712bdf660d
DTSTAMP:20260423T110450Z
DESCRIPTION:A monthly meeting that provides advocacy\, support\, lived expe
 rience\, and information for families of adults with severe and persistent
  mental illness. The group meets the 3rd Thursday of each month. Email lsa
 ger@mhaorangeny.com or phone 845-325-2899 for additional information.
DTSTART;TZID=America/Chicago:20240118T190000
DTEND;TZID=America/Chicago:20240118T200000
LOCATION:
SUMMARY:Family and Friends Together
END:VEVENT
END:VCALENDAR
