BEGIN:VCALENDAR
VERSION:2.0
PRODID:-//mhaorangeny.com//NONSGML kigkonsult.se iCalcreator 2.30.10//
CALSCALE:GREGORIAN
METHOD:PUBLISH
UID:3639ea0f-6639-4ba9-9931-e1c42dfc7d89
X-WR-CALDESC:
X-WR-RELCALID:3c0956dd8aa5d0a96cc6f0b3d8d2ae48
X-WR-TIMEZONE:America/Chicago
BEGIN:VTIMEZONE
TZID:America/Chicago
BEGIN:STANDARD
TZNAME:CST
DTSTART:20231105T020000
TZOFFSETFROM:-0500
TZOFFSETTO:-0600
RDATE:20241103T020000
END:STANDARD
BEGIN:DAYLIGHT
TZNAME:CDT
DTSTART:20230312T020000
TZOFFSETFROM:-0600
TZOFFSETTO:-0500
RDATE:20240310T020000
RDATE:20250309T020000
END:DAYLIGHT
END:VTIMEZONE
BEGIN:VEVENT
UID:64d1dd4d-a8c6-4d4b-b852-4e9ec9cde8ca
DTSTAMP:20260423T093042Z
DESCRIPTION:
DTSTART;TZID=America/Chicago:20231201T130000
DTEND;TZID=America/Chicago:20231201T160000
LOCATION:Town Of Wallkill Golf Club\, 40 Sands Rd Middletown NY 10940
SUMMARY:Holiday Party
END:VEVENT
END:VCALENDAR
