BEGIN:VCALENDAR
VERSION:2.0
PRODID:-//mhaorangeny.com//NONSGML kigkonsult.se iCalcreator 2.30.10//
CALSCALE:GREGORIAN
METHOD:PUBLISH
UID:198b2169-c6d1-4fd1-8c64-833dfd37a2ec
X-WR-CALDESC:A monthly meeting that provides advocacy\, educational service
 s\, community resources and support to families who have children/adolesce
 nts under age 18 with social\, emotional\, and behavioral difficulties. Th
 e group meets the 2nd Wednesday of each month
X-WR-RELCALID:e87b21a0ed6b7c6babb7e1e555cfd4c0
X-WR-TIMEZONE:America/New_York
BEGIN:VTIMEZONE
TZID:America/New_York
BEGIN:STANDARD
TZNAME:EST
DTSTART:20231105T020000
TZOFFSETFROM:-0400
TZOFFSETTO:-0500
RDATE:20241103T020000
END:STANDARD
BEGIN:DAYLIGHT
TZNAME:EDT
DTSTART:20230312T020000
TZOFFSETFROM:-0500
TZOFFSETTO:-0400
RDATE:20240310T020000
RDATE:20250309T020000
END:DAYLIGHT
END:VTIMEZONE
BEGIN:VEVENT
UID:696926fc-bd40-488f-b712-4dadefe5d7a6
DTSTAMP:20260423T084545Z
DESCRIPTION:A monthly meeting that provides advocacy\, educational services
 \, community resources and support to families who have children/adolescen
 ts under age 18 with social\, emotional\, and behavioral difficulties. The
  group meets the 2nd Wednesday of each month
DTSTART;TZID=America/New_York:20231108T190000
DTEND;TZID=America/New_York:20231108T200000
LOCATION:Zoom
SUMMARY:Family Ties
END:VEVENT
END:VCALENDAR
