BEGIN:VCALENDAR
VERSION:2.0
PRODID:-//mhaorangeny.com//NONSGML kigkonsult.se iCalcreator 2.30.10//
CALSCALE:GREGORIAN
METHOD:PUBLISH
UID:89fd49a0-dcc7-4b8d-a854-9ec96cb43cbf
X-WR-CALDESC:MHA Team Building Day\n\nJoin us for a fun-filled day of team 
 building activities at 300 Finchville Turnpike\, Otisville\, NY\, USA! Thi
 s in-person event is the perfect opportunity to bond with your colleagues 
 while enjoying exciting challenges and games. Get ready to strengthen your
  teamwork skills\, boost morale\, and have a blast! Whether you're a seaso
 ned team player or new to the concept\, this event promises to be a memora
 ble experience. Don't miss out on this chance to build stronger connection
 s with your fellow MHA members. Mark your calendars and get ready for an u
 nforgettable day of camaraderie and laughter. See you there!
X-WR-RELCALID:4433ed17aa123d1d90dc2dd8fefb07b9
X-WR-TIMEZONE:America/Chicago
BEGIN:VTIMEZONE
TZID:America/Chicago
BEGIN:STANDARD
TZNAME:CST
DTSTART:20221106T020000
TZOFFSETFROM:-0500
TZOFFSETTO:-0600
RDATE:20231105T020000
RDATE:20241103T020000
END:STANDARD
BEGIN:DAYLIGHT
TZNAME:CDT
DTSTART:20230312T020000
TZOFFSETFROM:-0600
TZOFFSETTO:-0500
RDATE:20240310T020000
RDATE:20250309T020000
END:DAYLIGHT
END:VTIMEZONE
BEGIN:VEVENT
UID:348c9811-13a8-40af-b21e-3e222ac442c9
DTSTAMP:20260423T052339Z
DESCRIPTION:MHA Team Building Day\n\nJoin us for a fun-filled day of team b
 uilding activities at 300 Finchville Turnpike\, Otisville\, NY\, USA! This
  in-person event is the perfect opportunity to bond with your colleagues w
 hile enjoying exciting challenges and games. Get ready to strengthen your 
 teamwork skills\, boost morale\, and have a blast! Whether you're a season
 ed team player or new to the concept\, this event promises to be a memorab
 le experience. Don't miss out on this chance to build stronger connections
  with your fellow MHA members. Mark your calendars and get ready for an un
 forgettable day of camaraderie and laughter. See you there!
DTSTART;TZID=America/Chicago:20230922T093000
DTEND;TZID=America/Chicago:20230922T153000
LOCATION:300 Finchville Turnpike\, Otisville\, NY 10963 US
SUMMARY:MHA Team Building Day
END:VEVENT
END:VCALENDAR
