BEGIN:VCALENDAR
VERSION:2.0
PRODID:-//mhaorangeny.com//NONSGML kigkonsult.se iCalcreator 2.30.10//
CALSCALE:GREGORIAN
METHOD:PUBLISH
UID:8bfcbb36-38aa-4562-acfe-4a38a1e136ab
X-WR-CALDESC:
X-WR-RELCALID:a52e2807ad5b32683807815e5d3de572
X-WR-TIMEZONE:America/Chicago
BEGIN:VTIMEZONE
TZID:America/Chicago
BEGIN:STANDARD
TZNAME:CST
DTSTART:20221106T020000
TZOFFSETFROM:-0500
TZOFFSETTO:-0600
RDATE:20231105T020000
RDATE:20241103T020000
END:STANDARD
BEGIN:DAYLIGHT
TZNAME:CDT
DTSTART:20230312T020000
TZOFFSETFROM:-0600
TZOFFSETTO:-0500
RDATE:20240310T020000
END:DAYLIGHT
END:VTIMEZONE
BEGIN:VEVENT
UID:b3895e62-c548-43b9-b294-bc49989e16de
DTSTAMP:20260423T035906Z
DESCRIPTION:
DTSTART;TZID=America/Chicago:20230826T170000
DTEND;TZID=America/Chicago:20230826T213000
LOCATION:Hudson Valley Renegades Stadium
SUMMARY:Veteran Appreciation Night
END:VEVENT
END:VCALENDAR
