BEGIN:VCALENDAR
VERSION:2.0
PRODID:-//mhaorangeny.com//NONSGML kigkonsult.se iCalcreator 2.30.10//
CALSCALE:GREGORIAN
METHOD:PUBLISH
UID:fd34bc99-478b-4d93-9bd2-028a4a6c7be9
X-WR-CALDESC:A monthly meeting that provides advocacy\, educational service
 s\, community resources and support to families who have children/adolesce
 nts under age 18 with social\, emotional\, and behavioral difficulties. Th
 e group meets the 2nd Wednesday of each month
X-WR-RELCALID:9c843ddbdcb263bd3cb2afece7ad27a7
X-WR-TIMEZONE:America/New_York
BEGIN:VTIMEZONE
TZID:America/New_York
BEGIN:STANDARD
TZNAME:EST
DTSTART:20221106T020000
TZOFFSETFROM:-0400
TZOFFSETTO:-0500
RDATE:20231105T020000
RDATE:20241103T020000
END:STANDARD
BEGIN:DAYLIGHT
TZNAME:EDT
DTSTART:20230312T020000
TZOFFSETFROM:-0500
TZOFFSETTO:-0400
RDATE:20240310T020000
END:DAYLIGHT
END:VTIMEZONE
BEGIN:VEVENT
UID:243121d6-c859-4ddf-8917-c0eeb8482dca
DTSTAMP:20260423T040431Z
DESCRIPTION:A monthly meeting that provides advocacy\, educational services
 \, community resources and support to families who have children/adolescen
 ts under age 18 with social\, emotional\, and behavioral difficulties. The
  group meets the 2nd Wednesday of each month
DTSTART;TZID=America/New_York:20230809T190000
DTEND;TZID=America/New_York:20230809T200000
LOCATION:Zoom
SUMMARY:Family Ties
END:VEVENT
END:VCALENDAR
