BEGIN:VCALENDAR
VERSION:2.0
PRODID:-//mhaorangeny.com//NONSGML kigkonsult.se iCalcreator 2.30.10//
CALSCALE:GREGORIAN
METHOD:PUBLISH
UID:640ce18c-7acb-4cdd-b6b9-8ccc5838e7c8
X-WR-CALDESC:
X-WR-RELCALID:c802e38afdf5fb0749ee734091a55a91
X-WR-TIMEZONE:America/New_York
BEGIN:VTIMEZONE
TZID:America/New_York
BEGIN:STANDARD
TZNAME:EST
DTSTART:20221106T020000
TZOFFSETFROM:-0400
TZOFFSETTO:-0500
RDATE:20231105T020000
RDATE:20241103T020000
END:STANDARD
BEGIN:DAYLIGHT
TZNAME:EDT
DTSTART:20230312T020000
TZOFFSETFROM:-0500
TZOFFSETTO:-0400
RDATE:20240310T020000
END:DAYLIGHT
END:VTIMEZONE
BEGIN:VEVENT
UID:2c294634-937d-4855-8799-8866dff18d73
DTSTAMP:20260423T070602Z
DESCRIPTION:
DTSTART;TZID=America/New_York:20230624T110000
DTEND;TZID=America/New_York:20230624T170000
LOCATION:Barton Orchards\, Poughquag\, NY 12570
SUMMARY:Hudson Valley Food Truck Festival Veteran and First Responder Disco
 unt Ticket Sponsor
END:VEVENT
END:VCALENDAR
