BEGIN:VCALENDAR
VERSION:2.0
PRODID:-//mhaorangeny.com//NONSGML kigkonsult.se iCalcreator 2.30.10//
CALSCALE:GREGORIAN
METHOD:PUBLISH
UID:66e862f9-ce82-4aa3-9eeb-bc10b689e59b
X-WR-CALDESC:
X-WR-RELCALID:dfdccafc2d4c70db31b90046bf9512d2
X-WR-TIMEZONE:America/Chicago
BEGIN:VTIMEZONE
TZID:America/Chicago
BEGIN:STANDARD
TZNAME:CST
DTSTART:20221106T020000
TZOFFSETFROM:-0500
TZOFFSETTO:-0600
RDATE:20231105T020000
RDATE:20241103T020000
END:STANDARD
BEGIN:DAYLIGHT
TZNAME:CDT
DTSTART:20230312T020000
TZOFFSETFROM:-0600
TZOFFSETTO:-0500
RDATE:20240310T020000
END:DAYLIGHT
END:VTIMEZONE
BEGIN:VEVENT
UID:c4f53f6b-af28-416c-ab0d-469862ec7d79
DTSTAMP:20260423T070048Z
DESCRIPTION:
DTSTART;TZID=America/Chicago:20230605T110000
DTEND;TZID=America/Chicago:20230605T120000
LOCATION:Zoom
SUMMARY:Military Sexual Trauma (MST) Support Group
END:VEVENT
END:VCALENDAR
