BEGIN:VCALENDAR
VERSION:2.0
PRODID:-//mhaorangeny.com//NONSGML kigkonsult.se iCalcreator 2.30.10//
CALSCALE:GREGORIAN
METHOD:PUBLISH
UID:6190c885-c27f-456d-86f6-52040f0cf9cf
X-WR-CALDESC:Veteran and First Responder Discount Ticket Sponsor
X-WR-RELCALID:33b20e3e37c5a90366c7747710721f8c
X-WR-TIMEZONE:America/New_York
BEGIN:VTIMEZONE
TZID:America/New_York
BEGIN:STANDARD
TZNAME:EST
DTSTART:20221106T020000
TZOFFSETFROM:-0400
TZOFFSETTO:-0500
RDATE:20231105T020000
RDATE:20241103T020000
END:STANDARD
BEGIN:DAYLIGHT
TZNAME:EDT
DTSTART:20230312T020000
TZOFFSETFROM:-0500
TZOFFSETTO:-0400
RDATE:20240310T020000
END:DAYLIGHT
END:VTIMEZONE
BEGIN:VEVENT
UID:3b3b7a87-ffd0-4b43-8839-c9a0feac0f79
DTSTAMP:20260423T084135Z
DESCRIPTION:Veteran and First Responder Discount Ticket Sponsor
DTSTART;TZID=America/New_York:20230521T100000
DTEND;TZID=America/New_York:20230521T180000
LOCATION:Dutchess County Fairgrounds\, Rhinebeck\, NY
SUMMARY:Northeast Outdoor Show Veteran and First Responder Discount Ticket 
 Sponsor
END:VEVENT
END:VCALENDAR
