BEGIN:VCALENDAR
VERSION:2.0
PRODID:-//mhaorangeny.com//NONSGML kigkonsult.se iCalcreator 2.30.10//
CALSCALE:GREGORIAN
METHOD:PUBLISH
UID:bb15731a-850b-43e0-97ec-3cbac3feac1a
X-WR-CALDESC:Veteran and First Responder Discount Ticket Sponsor
X-WR-RELCALID:18973f2226da9f86fe3df09e1839d8ba
X-WR-TIMEZONE:America/New_York
BEGIN:VTIMEZONE
TZID:America/New_York
BEGIN:STANDARD
TZNAME:EST
DTSTART:20221106T020000
TZOFFSETFROM:-0400
TZOFFSETTO:-0500
RDATE:20231105T020000
RDATE:20241103T020000
END:STANDARD
BEGIN:DAYLIGHT
TZNAME:EDT
DTSTART:20230312T020000
TZOFFSETFROM:-0500
TZOFFSETTO:-0400
RDATE:20240310T020000
END:DAYLIGHT
END:VTIMEZONE
BEGIN:VEVENT
UID:f23c600a-e204-432f-a9b4-699c1db1fedf
DTSTAMP:20260423T082825Z
DESCRIPTION:Veteran and First Responder Discount Ticket Sponsor
DTSTART;TZID=America/New_York:20230520T100000
DTEND;TZID=America/New_York:20230520T180000
LOCATION:Dutchess County Fairgrounds\, Rhinebeck\, NY
SUMMARY:Northeast Outdoor Show Veteran and First Responder Discount Ticket 
 Sponsor
END:VEVENT
END:VCALENDAR
