BEGIN:VCALENDAR
VERSION:2.0
PRODID:-//mhaorangeny.com//NONSGML kigkonsult.se iCalcreator 2.30.10//
CALSCALE:GREGORIAN
METHOD:PUBLISH
UID:ff10de6c-e4c8-4eb8-a965-09c2835ea1ac
X-WR-CALDESC:https://tinyurl.com/2p976774
X-WR-RELCALID:1280a0c3fb617b72127ead57d93f366d
X-WR-TIMEZONE:America/New_York
BEGIN:VTIMEZONE
TZID:America/New_York
BEGIN:STANDARD
TZNAME:EST
DTSTART:20221106T020000
TZOFFSETFROM:-0400
TZOFFSETTO:-0500
RDATE:20231105T020000
RDATE:20241103T020000
END:STANDARD
BEGIN:DAYLIGHT
TZNAME:EDT
DTSTART:20230312T020000
TZOFFSETFROM:-0500
TZOFFSETTO:-0400
RDATE:20240310T020000
END:DAYLIGHT
END:VTIMEZONE
BEGIN:VEVENT
UID:48af62f3-7917-4398-971b-abaec34fc601
DTSTAMP:20260423T082250Z
DESCRIPTION:https://tinyurl.com/2p976774
DTSTART;TZID=America/New_York:20230516T190000
DTEND;TZID=America/New_York:20230516T203000
LOCATION:Zoom
SUMMARY:Family Support Education Series: Social Security Benefit Eligibilit
 y and Application Process Clarified
END:VEVENT
END:VCALENDAR
