BEGIN:VCALENDAR
VERSION:2.0
PRODID:-//mhaorangeny.com//NONSGML kigkonsult.se iCalcreator 2.30.10//
CALSCALE:GREGORIAN
METHOD:PUBLISH
UID:90d98442-6000-4ef3-aacc-cde80ca1dc95
X-WR-CALDESC:
X-WR-RELCALID:17a94cb98e0bbed5d91d65c6df4f5a36
X-WR-TIMEZONE:America/New_York
BEGIN:VTIMEZONE
TZID:America/New_York
BEGIN:STANDARD
TZNAME:EST
DTSTART:20221106T020000
TZOFFSETFROM:-0400
TZOFFSETTO:-0500
RDATE:20231105T020000
RDATE:20241103T020000
END:STANDARD
BEGIN:DAYLIGHT
TZNAME:EDT
DTSTART:20230312T020000
TZOFFSETFROM:-0500
TZOFFSETTO:-0400
RDATE:20240310T020000
END:DAYLIGHT
END:VTIMEZONE
BEGIN:VEVENT
UID:de106c4a-7aae-4dba-b50f-4e464d3d959d
DTSTAMP:20260423T084308Z
DESCRIPTION:
DTSTART;TZID=America/New_York:20230512T130000
DTEND;TZID=America/New_York:20230512T140000
LOCATION:Castle Point Pavillion Outside Building 19 and Montrose Pavilion\,
  Behind Building 15
SUMMARY:VA Hudson Valley Memorial Day Events
END:VEVENT
END:VCALENDAR
