BEGIN:VCALENDAR
VERSION:2.0
PRODID:-//mhaorangeny.com//NONSGML kigkonsult.se iCalcreator 2.30.10//
CALSCALE:GREGORIAN
METHOD:PUBLISH
UID:6c638116-3943-4316-870e-8d57c5ca6c9f
X-WR-CALDESC:
X-WR-RELCALID:3f05f6e8488e2e606a1bd2abc34df11e
X-WR-TIMEZONE:America/New_York
BEGIN:VTIMEZONE
TZID:America/New_York
BEGIN:STANDARD
TZNAME:EST
DTSTART:20221106T020000
TZOFFSETFROM:-0400
TZOFFSETTO:-0500
RDATE:20231105T020000
RDATE:20241103T020000
END:STANDARD
BEGIN:DAYLIGHT
TZNAME:EDT
DTSTART:20230312T020000
TZOFFSETFROM:-0500
TZOFFSETTO:-0400
RDATE:20240310T020000
END:DAYLIGHT
END:VTIMEZONE
BEGIN:VEVENT
UID:7fef76ea-e5ef-4650-af24-e6626d086d17
DTSTAMP:20260423T082219Z
DESCRIPTION:
DTSTART;TZID=America/New_York:20230511T160000
DTEND;TZID=America/New_York:20230511T180000
LOCATION:Graham Skea Lodge\, Thomas Bull Memorial Park\, 211 NY-416\, Montg
 omery\, NY 12549
SUMMARY:MHA Annual Meeting and Awards
END:VEVENT
END:VCALENDAR
