BEGIN:VCALENDAR
VERSION:2.0
PRODID:-//mhaorangeny.com//NONSGML kigkonsult.se iCalcreator 2.30.10//
CALSCALE:GREGORIAN
METHOD:PUBLISH
UID:d6902e76-21aa-458e-b9be-0867fbe30a69
X-WR-CALDESC:
X-WR-RELCALID:8d31b7b4ca32432ac119651080953928
X-WR-TIMEZONE:America/New_York
BEGIN:VTIMEZONE
TZID:America/New_York
BEGIN:STANDARD
TZNAME:EST
DTSTART:20221106T020000
TZOFFSETFROM:-0400
TZOFFSETTO:-0500
RDATE:20231105T020000
RDATE:20241103T020000
END:STANDARD
BEGIN:DAYLIGHT
TZNAME:EDT
DTSTART:20230312T020000
TZOFFSETFROM:-0500
TZOFFSETTO:-0400
RDATE:20240310T020000
END:DAYLIGHT
END:VTIMEZONE
BEGIN:VEVENT
UID:f6536500-530b-48b5-9651-a515951a7d2e
DTSTAMP:20260423T084114Z
DESCRIPTION:
DTSTART;TZID=America/New_York:20230506T090000
DTEND;TZID=America/New_York:20230506T120000
LOCATION:Algonquin Park\, Newburgh NY
SUMMARY:Children’s Mental Health Awareness Walk
END:VEVENT
END:VCALENDAR
