BEGIN:VCALENDAR
VERSION:2.0
PRODID:-//mhaorangeny.com//NONSGML kigkonsult.se iCalcreator 2.30.10//
CALSCALE:GREGORIAN
METHOD:PUBLISH
UID:baed2669-1b5b-47a5-9913-5bd883d54f16
X-WR-CALDESC:The vigil’s program will include guest speakers.  Those wishin
 g to participate in the vigil are advised that some content may not be app
 ropriate for younger children. Crisis counselors will be available through
 out the ceremony. Photographs of loved ones may be brought for display and
  a roll call of crime victims will take place during the ceremony.
X-WR-RELCALID:de190b0a0fb9cee851d26d5f074a8792
X-WR-TIMEZONE:America/Chicago
BEGIN:VTIMEZONE
TZID:America/Chicago
BEGIN:STANDARD
TZNAME:CST
DTSTART:20221106T020000
TZOFFSETFROM:-0500
TZOFFSETTO:-0600
RDATE:20231105T020000
END:STANDARD
BEGIN:DAYLIGHT
TZNAME:CDT
DTSTART:20230312T020000
TZOFFSETFROM:-0600
TZOFFSETTO:-0500
RDATE:20240310T020000
END:DAYLIGHT
END:VTIMEZONE
BEGIN:VEVENT
UID:d969a90f-9ae7-4af7-804a-4797aebf37ff
DTSTAMP:20260423T093325Z
DESCRIPTION:The vigil’s program will include guest speakers.  Those wishing
  to participate in the vigil are advised that some content may not be appr
 opriate for younger children. Crisis counselors will be available througho
 ut the ceremony. Photographs of loved ones may be brought for display and 
 a roll call of crime victims will take place during the ceremony.
DTSTART;TZID=America/Chicago:20230425T180000
DTEND;TZID=America/Chicago:20230425T190000
LOCATION:TBD\, Middletown\, NY
SUMMARY:Crime Victim Vigil
END:VEVENT
END:VCALENDAR
