BEGIN:VCALENDAR
VERSION:2.0
PRODID:-//mhaorangeny.com//NONSGML kigkonsult.se iCalcreator 2.30.10//
CALSCALE:GREGORIAN
METHOD:PUBLISH
UID:db85f7e3-4504-45d1-a653-74f6cb0ca255
X-WR-CALDESC:Connecting students\, families\, and professionals to resource
 s that will\nsupport students with disabilities as they transition from sc
 hool to adult life.
X-WR-RELCALID:7575ed0a781425f13b1ae2cc56879534
X-WR-TIMEZONE:America/New_York
BEGIN:VTIMEZONE
TZID:America/New_York
BEGIN:STANDARD
TZNAME:EST
DTSTART:20221106T020000
TZOFFSETFROM:-0400
TZOFFSETTO:-0500
RDATE:20231105T020000
END:STANDARD
BEGIN:DAYLIGHT
TZNAME:EDT
DTSTART:20230312T020000
TZOFFSETFROM:-0500
TZOFFSETTO:-0400
RDATE:20240310T020000
END:DAYLIGHT
END:VTIMEZONE
BEGIN:VEVENT
UID:3159b22b-e674-428a-8624-ea568781f571
DTSTAMP:20260423T093219Z
DESCRIPTION:Connecting students\, families\, and professionals to resources
  that will\nsupport students with disabilities as they transition from sch
 ool to adult life.
DTSTART;TZID=America/New_York:20230420T150000
DTEND;TZID=America/New_York:20230420T180000
LOCATION:Orange-Ulster BOCES Emanuel Axelrod Education Center 53 Gibson Roa
 d Goshen\, NY 10924
SUMMARY:Transition Fair
END:VEVENT
END:VCALENDAR
