BEGIN:VCALENDAR
VERSION:2.0
PRODID:-//mhaorangeny.com//NONSGML kigkonsult.se iCalcreator 2.30.10//
CALSCALE:GREGORIAN
METHOD:PUBLISH
UID:e7ebd56d-935a-4eb3-a06d-1735eeafbb4d
X-WR-CALDESC:The Clothesline Project is a visual display of violence statis
 tics that often go ignored. Each shirt is made by a survivor of violence o
 r by someone who has lost a loved one to violence. The color of each shirt
  represents a different type of violence.
X-WR-RELCALID:590100b579d72d45b2deac4452ff4a7e
X-WR-TIMEZONE:America/Chicago
BEGIN:VTIMEZONE
TZID:America/Chicago
BEGIN:STANDARD
TZNAME:CST
DTSTART:20221106T020000
TZOFFSETFROM:-0500
TZOFFSETTO:-0600
RDATE:20231105T020000
END:STANDARD
BEGIN:DAYLIGHT
TZNAME:CDT
DTSTART:20230312T020000
TZOFFSETFROM:-0600
TZOFFSETTO:-0500
RDATE:20240310T020000
END:DAYLIGHT
END:VTIMEZONE
BEGIN:VEVENT
UID:56ed0e1e-6c5f-44d4-b262-f18a199fb57f
DTSTAMP:20260423T093203Z
DESCRIPTION:The Clothesline Project is a visual display of violence statist
 ics that often go ignored. Each shirt is made by a survivor of violence or
  by someone who has lost a loved one to violence. The color of each shirt 
 represents a different type of violence.
DTSTART;TZID=America/Chicago:20230419T080000
DTEND;TZID=America/Chicago:20230419T190000
LOCATION:SUNY Orange - 115 South Street Middletown\, NY 10940
SUMMARY:Clothesline Project
END:VEVENT
END:VCALENDAR
