BEGIN:VCALENDAR
VERSION:2.0
PRODID:-//mhaorangeny.com//NONSGML kigkonsult.se iCalcreator 2.30.10//
CALSCALE:GREGORIAN
METHOD:PUBLISH
UID:a47cb601-c14f-4f0f-82b0-2cbde8c24a37
X-WR-CALDESC:The Clothesline Project is a visual display of violence statis
 tics that often go ignored. Each shirt is made by a survivor of violence o
 r by someone who has lost a loved one to violence. The color of each shirt
  represents a different type of violence.
X-WR-RELCALID:3541ff33980604b61e78554958a09da8
X-WR-TIMEZONE:America/Chicago
BEGIN:VTIMEZONE
TZID:America/Chicago
BEGIN:STANDARD
TZNAME:CST
DTSTART:20221106T020000
TZOFFSETFROM:-0500
TZOFFSETTO:-0600
RDATE:20231105T020000
END:STANDARD
BEGIN:DAYLIGHT
TZNAME:CDT
DTSTART:20230312T020000
TZOFFSETFROM:-0600
TZOFFSETTO:-0500
RDATE:20240310T020000
END:DAYLIGHT
END:VTIMEZONE
BEGIN:VEVENT
UID:3dea664b-58c0-40f2-bb3c-752237f7ef29
DTSTAMP:20260423T093203Z
DESCRIPTION:The Clothesline Project is a visual display of violence statist
 ics that often go ignored. Each shirt is made by a survivor of violence or
  by someone who has lost a loved one to violence. The color of each shirt 
 represents a different type of violence.
DTSTART;TZID=America/Chicago:20230418T080000
DTEND;TZID=America/Chicago:20230418T190000
LOCATION:One Washington Center\, Newburgh\, NY 12550
SUMMARY:Clothesline Project
END:VEVENT
END:VCALENDAR
