BEGIN:VCALENDAR
VERSION:2.0
PRODID:-//mhaorangeny.com//NONSGML kigkonsult.se iCalcreator 2.30.10//
CALSCALE:GREGORIAN
METHOD:PUBLISH
UID:e51731c0-8140-483e-ad07-e636707e9f6b
X-WR-CALDESC:Take Back the Night is a march\, rally\, and vigil that unites
  the community to support survivors and envision an end to sexual assault\
 , domestic violence\, rape\, and child sexual abuse. This community event 
 is open to anyone in the public. It creates a safe space for victims\, sur
 vivors\, and allies to speak out.
X-WR-RELCALID:279be6ba53a0e335616a78e5e0fa3968
X-WR-TIMEZONE:America/Chicago
BEGIN:VTIMEZONE
TZID:America/Chicago
BEGIN:STANDARD
TZNAME:CST
DTSTART:20221106T020000
TZOFFSETFROM:-0500
TZOFFSETTO:-0600
RDATE:20231105T020000
END:STANDARD
BEGIN:DAYLIGHT
TZNAME:CDT
DTSTART:20230312T020000
TZOFFSETFROM:-0600
TZOFFSETTO:-0500
RDATE:20240310T020000
END:DAYLIGHT
END:VTIMEZONE
BEGIN:VEVENT
UID:d903bd9e-8996-4acb-8a2a-b202d6f6438b
DTSTAMP:20260423T093219Z
DESCRIPTION:Take Back the Night is a march\, rally\, and vigil that unites 
 the community to support survivors and envision an end to sexual assault\,
  domestic violence\, rape\, and child sexual abuse. This community event i
 s open to anyone in the public. It creates a safe space for victims\, surv
 ivors\, and allies to speak out.
DTSTART;TZID=America/Chicago:20230417T190000
DTEND;TZID=America/Chicago:20230417T200000
LOCATION:Mount Saint Mary College
SUMMARY:Take Back the Night
END:VEVENT
END:VCALENDAR
