BEGIN:VCALENDAR
VERSION:2.0
PRODID:-//mhaorangeny.com//NONSGML kigkonsult.se iCalcreator 2.30.10//
CALSCALE:GREGORIAN
METHOD:PUBLISH
UID:655c89b5-9f4a-4afd-88bc-14b24f86ad8f
X-WR-CALDESC:A monthly meeting that provides advocacy\, educational service
 s\, community resources and support to families who have children/adolesce
 nts under age 18 with social\, emotional\, and behavioral difficulties. Th
 e group meets the 2nd Wednesday of each month
X-WR-RELCALID:a8770c2a959c0ec4e9d77ca11cb5ef5a
X-WR-TIMEZONE:America/New_York
BEGIN:VTIMEZONE
TZID:America/New_York
BEGIN:STANDARD
TZNAME:EST
DTSTART:20221106T020000
TZOFFSETFROM:-0400
TZOFFSETTO:-0500
RDATE:20231105T020000
END:STANDARD
BEGIN:DAYLIGHT
TZNAME:EDT
DTSTART:20230312T020000
TZOFFSETFROM:-0500
TZOFFSETTO:-0400
RDATE:20240310T020000
END:DAYLIGHT
END:VTIMEZONE
BEGIN:VEVENT
UID:6b4f50b2-9fc3-4c53-98f8-3c9fab742cb3
DTSTAMP:20260423T094506Z
DESCRIPTION:A monthly meeting that provides advocacy\, educational services
 \, community resources and support to families who have children/adolescen
 ts under age 18 with social\, emotional\, and behavioral difficulties. The
  group meets the 2nd Wednesday of each month
DTSTART;TZID=America/New_York:20230412T190000
DTEND;TZID=America/New_York:20230412T200000
LOCATION:Zoom
SUMMARY:Family Ties
END:VEVENT
END:VCALENDAR
