BEGIN:VCALENDAR
VERSION:2.0
PRODID:-//mhaorangeny.com//NONSGML kigkonsult.se iCalcreator 2.30.10//
CALSCALE:GREGORIAN
METHOD:PUBLISH
UID:76f9a70d-fb1e-4ed9-b6e6-2f5913df6e61
X-WR-CALDESC:A free\, creative writing workshop specifically open to and de
 signed for veterans and active duty military. In it participants will:\n\n
 Learn the skills that will help you write your stories.\nReceive valuable 
 feedback and guidance from a published writer.\nBecome part of a supportiv
 e community of writers.\nOffered in partnership with Veterans Writing Work
 shop.
X-WR-RELCALID:01d60717b4d8d7e2e6541d353b583be1
X-WR-TIMEZONE:America/New_York
BEGIN:VTIMEZONE
TZID:America/New_York
BEGIN:STANDARD
TZNAME:EST
DTSTART:20221106T020000
TZOFFSETFROM:-0400
TZOFFSETTO:-0500
RDATE:20231105T020000
END:STANDARD
BEGIN:DAYLIGHT
TZNAME:EDT
DTSTART:20230312T020000
TZOFFSETFROM:-0500
TZOFFSETTO:-0400
RDATE:20240310T020000
END:DAYLIGHT
END:VTIMEZONE
BEGIN:VEVENT
UID:4cba8bc8-b74c-43fc-8d43-5a0f1c053f2c
DTSTAMP:20260423T093310Z
DESCRIPTION:A free\, creative writing workshop specifically open to and des
 igned for veterans and active duty military. In it participants will:\n\nL
 earn the skills that will help you write your stories.\nReceive valuable f
 eedback and guidance from a published writer.\nBecome part of a supportive
  community of writers.\nOffered in partnership with Veterans Writing Works
 hop.
DTSTART;TZID=America/New_York:20230401T130000
DTEND;TZID=America/New_York:20230401T143000
LOCATION:Cornwall Public Library
SUMMARY:Veteran's Writing Workshop
END:VEVENT
END:VCALENDAR
