BEGIN:VCALENDAR
VERSION:2.0
PRODID:-//mhaorangeny.com//NONSGML kigkonsult.se iCalcreator 2.30.10//
CALSCALE:GREGORIAN
METHOD:PUBLISH
UID:69b38c75-c98a-48f7-9408-d65e1c403b89
X-WR-CALDESC:
X-WR-RELCALID:924ba8793d4400e0d8bb3cc2b19eff5a
X-WR-TIMEZONE:America/Chicago
BEGIN:VTIMEZONE
TZID:America/Chicago
BEGIN:STANDARD
TZNAME:CST
DTSTART:20221106T020000
TZOFFSETFROM:-0500
TZOFFSETTO:-0600
RDATE:20231105T020000
END:STANDARD
BEGIN:DAYLIGHT
TZNAME:CDT
DTSTART:20230312T020000
TZOFFSETFROM:-0600
TZOFFSETTO:-0500
RDATE:20240310T020000
END:DAYLIGHT
END:VTIMEZONE
BEGIN:VEVENT
UID:7befa40d-bcf4-4411-85fc-a0505783f573
DTSTAMP:20260423T111255Z
DESCRIPTION:
DTSTART;TZID=America/Chicago:20230327T110000
DTEND;TZID=America/Chicago:20230327T120000
LOCATION:Zoom
SUMMARY:Military Sexual Trauma (MST) Support Group
END:VEVENT
END:VCALENDAR
