BEGIN:VCALENDAR
VERSION:2.0
PRODID:-//mhaorangeny.com//NONSGML kigkonsult.se iCalcreator 2.30.10//
CALSCALE:GREGORIAN
METHOD:PUBLISH
UID:2e7e3422-a0c9-4500-8a70-f0c15f0c1e63
X-WR-CALDESC:A free\, creative writing workshop specifically open to and de
 signed for veterans and active duty military. In it participants will:\n\n
 Learn the skills that will help you write your stories.\nReceive valuable 
 feedback and guidance from a published writer.\nBecome part of a supportiv
 e community of writers.\nOffered in partnership with Veterans Writing Work
 shop.
X-WR-RELCALID:43e56e512e3dbae3ef6394f15afd61c1
X-WR-TIMEZONE:America/New_York
BEGIN:VTIMEZONE
TZID:America/New_York
BEGIN:STANDARD
TZNAME:EST
DTSTART:20221106T020000
TZOFFSETFROM:-0400
TZOFFSETTO:-0500
RDATE:20231105T020000
END:STANDARD
BEGIN:DAYLIGHT
TZNAME:EDT
DTSTART:20220313T020000
TZOFFSETFROM:-0500
TZOFFSETTO:-0400
RDATE:20230312T020000
RDATE:20240310T020000
END:DAYLIGHT
END:VTIMEZONE
BEGIN:VEVENT
UID:72e7bf54-4b67-4630-8515-5c6667f4bfbe
DTSTAMP:20260423T110435Z
DESCRIPTION:A free\, creative writing workshop specifically open to and des
 igned for veterans and active duty military. In it participants will:\n\nL
 earn the skills that will help you write your stories.\nReceive valuable f
 eedback and guidance from a published writer.\nBecome part of a supportive
  community of writers.\nOffered in partnership with Veterans Writing Works
 hop.
DTSTART;TZID=America/New_York:20230311T130000
DTEND;TZID=America/New_York:20230311T143000
LOCATION:Cornwall Public Library
SUMMARY:Veteran's Writing Workshop
END:VEVENT
END:VCALENDAR
