BEGIN:VCALENDAR
VERSION:2.0
PRODID:-//mhaorangeny.com//NONSGML kigkonsult.se iCalcreator 2.30.10//
CALSCALE:GREGORIAN
METHOD:PUBLISH
UID:2a4f2a9f-0fa2-44e0-8fed-4bd8783ee47a
X-WR-CALDESC:Acquiring Social Skills Through Intervention\, Support and Tra
 ining Group ages 5-10 based on kids that are diagnosed with Autism and tha
 t are OPWDD eligible. They Meet throughout Orange County for 1 hour. This 
 month\, all participants will be meeting at 73 James P. Kelly Way in Middl
 etown\, NY. We will be playing a game and having pizza and a beverage. We 
 will be discussing Spring activities!!
X-WR-RELCALID:629e4f5276d1ec9b89732a08d2a1802e
X-WR-TIMEZONE:America/New_York
BEGIN:VTIMEZONE
TZID:America/New_York
BEGIN:STANDARD
TZNAME:EST
DTSTART:20221106T020000
TZOFFSETFROM:-0400
TZOFFSETTO:-0500
RDATE:20231105T020000
END:STANDARD
BEGIN:DAYLIGHT
TZNAME:EDT
DTSTART:20220313T020000
TZOFFSETFROM:-0500
TZOFFSETTO:-0400
RDATE:20230312T020000
RDATE:20240310T020000
END:DAYLIGHT
END:VTIMEZONE
BEGIN:VEVENT
UID:c8557999-9a1f-4dde-b29b-718ca7864621
DTSTAMP:20260423T105537Z
DESCRIPTION:Acquiring Social Skills Through Intervention\, Support and Trai
 ning Group ages 5-10 based on kids that are diagnosed with Autism and that
  are OPWDD eligible. They Meet throughout Orange County for 1 hour. This m
 onth\, all participants will be meeting at 73 James P. Kelly Way in Middle
 town\, NY. We will be playing a game and having pizza and a beverage. We w
 ill be discussing Spring activities!!
DTSTART;TZID=America/New_York:20230302T163000
DTEND;TZID=America/New_York:20230302T170000
LOCATION:
SUMMARY:ASSIST Reunion
END:VEVENT
END:VCALENDAR
