BEGIN:VCALENDAR
VERSION:2.0
PRODID:-//mhaorangeny.com//NONSGML kigkonsult.se iCalcreator 2.30.10//
CALSCALE:GREGORIAN
METHOD:PUBLISH
UID:1f1d4b53-83a2-4ab3-b6f9-70b2b225295e
X-WR-CALDESC:A free\, creative writing workshop specifically open to and de
 signed for veterans and active duty military. In it participants will:\n\n
 Learn the skills that will help you write your stories.\nReceive valuable 
 feedback and guidance from a published writer.\nBecome part of a supportiv
 e community of writers.\nOffered in partnership with Veterans Writing Work
 shop.
X-WR-RELCALID:1c8d580ba2badeaf3e7c299a40e15f37
X-WR-TIMEZONE:America/New_York
BEGIN:VTIMEZONE
TZID:America/New_York
BEGIN:STANDARD
TZNAME:EST
DTSTART:20221106T020000
TZOFFSETFROM:-0400
TZOFFSETTO:-0500
RDATE:20231105T020000
END:STANDARD
BEGIN:DAYLIGHT
TZNAME:EDT
DTSTART:20220313T020000
TZOFFSETFROM:-0500
TZOFFSETTO:-0400
RDATE:20230312T020000
RDATE:20240310T020000
END:DAYLIGHT
END:VTIMEZONE
BEGIN:VEVENT
UID:cfd63626-432b-4b3f-b6c3-3d1f52c57490
DTSTAMP:20260423T122044Z
DESCRIPTION:A free\, creative writing workshop specifically open to and des
 igned for veterans and active duty military. In it participants will:\n\nL
 earn the skills that will help you write your stories.\nReceive valuable f
 eedback and guidance from a published writer.\nBecome part of a supportive
  community of writers.\nOffered in partnership with Veterans Writing Works
 hop.
DTSTART;TZID=America/New_York:20230218T130000
DTEND;TZID=America/New_York:20230218T143000
LOCATION:Cornwall Public Library
SUMMARY:Veteran's Writing Workshop
END:VEVENT
END:VCALENDAR
