BEGIN:VCALENDAR
VERSION:2.0
PRODID:-//mhaorangeny.com//NONSGML kigkonsult.se iCalcreator 2.30.10//
CALSCALE:GREGORIAN
METHOD:PUBLISH
UID:6f4f62fc-922b-42c1-b9b2-3ef1e888de67
X-WR-CALDESC:Anyone interested in discussing supports services and opportun
 ities for students with disabilities-parents\, caregivers\, community-base
 d organizations.
X-WR-RELCALID:90820c1e99afa97085cea4accc7e4e8a
X-WR-TIMEZONE:America/New_York
BEGIN:VTIMEZONE
TZID:America/New_York
BEGIN:STANDARD
TZNAME:EST
DTSTART:20221106T020000
TZOFFSETFROM:-0400
TZOFFSETTO:-0500
RDATE:20231105T020000
END:STANDARD
BEGIN:DAYLIGHT
TZNAME:EDT
DTSTART:20220313T020000
TZOFFSETFROM:-0500
TZOFFSETTO:-0400
RDATE:20230312T020000
RDATE:20240310T020000
END:DAYLIGHT
END:VTIMEZONE
BEGIN:VEVENT
UID:784ae233-ef68-4f55-a901-5fce4b48736d
DTSTAMP:20260423T122213Z
DESCRIPTION:Anyone interested in discussing supports services and opportuni
 ties for students with disabilities-parents\, caregivers\, community-based
  organizations.
DTSTART;TZID=America/New_York:20230210T083000
DTEND;TZID=America/New_York:20230210T103000
LOCATION:Carl P. Onken Conference Center\; 53 Gibson Road\; Goshen\, NY 109
 24
SUMMARY:Orange County Transition Council Meeting
END:VEVENT
END:VCALENDAR
